Package: quantro Version: 1.41.0 Command: E:\biocbuild\bbs-3.21-bioc\R\bin\R.exe CMD check --no-multiarch --install=check:quantro.install-out.txt --library=E:\biocbuild\bbs-3.21-bioc\R\library --no-vignettes --timings quantro_1.41.0.tar.gz StartedAt: 2025-02-04 04:50:42 -0500 (Tue, 04 Feb 2025) EndedAt: 2025-02-04 04:57:17 -0500 (Tue, 04 Feb 2025) EllapsedTime: 394.5 seconds RetCode: 0 Status: OK CheckDir: quantro.Rcheck Warnings: 0