Package: quantro Version: 1.41.0 Command: E:\biocbuild\bbs-3.21-bioc\R\bin\R.exe CMD INSTALL quantro StartedAt: 2025-02-04 16:50:01 -0500 (Tue, 04 Feb 2025) EndedAt: 2025-02-04 16:50:59 -0500 (Tue, 04 Feb 2025) EllapsedTime: 57.7 seconds RetCode: 0 Status: OK