Package: quantsmooth Version: 1.73.0 Command: /Library/Frameworks/R.framework/Resources/bin/R CMD build --keep-empty-dirs --no-resave-data quantsmooth StartedAt: 2025-02-12 17:19:12 -0500 (Wed, 12 Feb 2025) EndedAt: 2025-02-12 17:19:19 -0500 (Wed, 12 Feb 2025) EllapsedTime: 7.1 seconds RetCode: 0 Status: OK PackageFile: quantsmooth_1.73.0.tar.gz PackageFileSize: 338.4 KiB