Package: quantsmooth Version: 1.73.0 Command: /home/biocbuild/R/R/bin/R CMD build --keep-empty-dirs --no-resave-data quantsmooth StartedAt: 2025-01-29 01:27:16 -0000 (Wed, 29 Jan 2025) EndedAt: 2025-01-29 01:27:29 -0000 (Wed, 29 Jan 2025) EllapsedTime: 13.0 seconds RetCode: 0 Status: OK PackageFile: quantsmooth_1.73.0.tar.gz PackageFileSize: 335.3 KiB