Package: quantsmooth Version: 1.73.0 Command: rm -rf quantsmooth.buildbin-libdir && mkdir quantsmooth.buildbin-libdir && /Users/biocbuild/BBS/utils/build-universal.sh quantsmooth_1.73.0.tar.gz /Library/Frameworks/R.framework/Resources/bin/R quantsmooth.buildbin-libdir StartedAt: 2025-02-10 01:09:58 -0500 (Mon, 10 Feb 2025) EndedAt: 2025-02-10 01:10:10 -0500 (Mon, 10 Feb 2025) EllapsedTime: 11.6 seconds RetCode: 0 Status: OK PackageFile: quantsmooth_1.73.0.tgz PackageFileSize: 420 KiB