Package: quantsmooth Version: 1.73.0 Command: /Library/Frameworks/R.framework/Resources/bin/R CMD build --keep-empty-dirs --no-resave-data quantsmooth StartedAt: 2025-02-09 18:03:33 -0500 (Sun, 09 Feb 2025) EndedAt: 2025-02-09 18:03:51 -0500 (Sun, 09 Feb 2025) EllapsedTime: 18.3 seconds RetCode: 0 Status: OK PackageFile: quantsmooth_1.73.0.tar.gz PackageFileSize: 338.2 KiB