Package: quantsmooth Version: 1.73.0 Command: /Library/Frameworks/R.framework/Resources/bin/R CMD INSTALL quantsmooth StartedAt: 2025-02-09 15:34:55 -0500 (Sun, 09 Feb 2025) EndedAt: 2025-02-09 15:35:05 -0500 (Sun, 09 Feb 2025) EllapsedTime: 9.1 seconds RetCode: 0 Status: OK