Package: quantsmooth Version: 1.73.0 Command: rm -rf quantsmooth.buildbin-libdir && mkdir quantsmooth.buildbin-libdir && E:\biocbuild\bbs-3.21-bioc\R\bin\R.exe CMD INSTALL --build --library=quantsmooth.buildbin-libdir quantsmooth_1.73.0.tar.gz StartedAt: 2025-02-10 08:27:28 -0500 (Mon, 10 Feb 2025) EndedAt: 2025-02-10 08:27:46 -0500 (Mon, 10 Feb 2025) EllapsedTime: 17.4 seconds RetCode: 0 Status: OK PackageFile: quantsmooth_1.73.0.zip PackageFileSize: 316.1 KiB