Package: quantsmooth Version: 1.73.0 Command: chmod a+r quantsmooth -R && E:\biocbuild\bbs-3.21-bioc\R\bin\R.exe CMD build --keep-empty-dirs --no-resave-data quantsmooth StartedAt: 2025-02-09 20:57:14 -0500 (Sun, 09 Feb 2025) EndedAt: 2025-02-09 20:57:33 -0500 (Sun, 09 Feb 2025) EllapsedTime: 18.8 seconds RetCode: 0 Status: OK PackageFile: quantsmooth_1.73.0.tar.gz PackageFileSize: 230.6 KiB