Package: r3Cseq Version: 1.53.0 Command: rm -rf r3Cseq.buildbin-libdir && mkdir r3Cseq.buildbin-libdir && /Users/biocbuild/BBS/utils/build-universal.sh r3Cseq_1.53.0.tar.gz /Library/Frameworks/R.framework/Resources/bin/R r3Cseq.buildbin-libdir StartedAt: 2025-02-09 22:26:25 -0500 (Sun, 09 Feb 2025) EndedAt: 2025-02-09 22:26:43 -0500 (Sun, 09 Feb 2025) EllapsedTime: 18.5 seconds RetCode: 0 Status: OK PackageFile: r3Cseq_1.53.0.tgz PackageFileSize: 2.945 MiB