Package: r3Cseq Version: 1.53.0 Command: /Library/Frameworks/R.framework/Resources/bin/R CMD check --install=check:r3Cseq.install-out.txt --library=/Library/Frameworks/R.framework/Resources/library --no-vignettes --timings r3Cseq_1.53.0.tar.gz StartedAt: 2025-02-03 21:26:43 -0500 (Mon, 03 Feb 2025) EndedAt: 2025-02-03 21:28:20 -0500 (Mon, 03 Feb 2025) EllapsedTime: 97.2 seconds RetCode: 0 Status: OK CheckDir: r3Cseq.Rcheck Warnings: 0