Package: r3Cseq Version: 1.53.0 Command: /home/biocbuild/R/R/bin/R CMD INSTALL r3Cseq StartedAt: 2025-01-29 19:52:19 -0000 (Wed, 29 Jan 2025) EndedAt: 2025-01-29 19:53:17 -0000 (Wed, 29 Jan 2025) EllapsedTime: 57.8 seconds RetCode: 0 Status: OK