Package: r3Cseq Version: 1.53.0 Command: rm -rf r3Cseq.buildbin-libdir && mkdir r3Cseq.buildbin-libdir && /Users/biocbuild/BBS/utils/build-universal.sh r3Cseq_1.53.0.tar.gz /Library/Frameworks/R.framework/Resources/bin/R r3Cseq.buildbin-libdir StartedAt: 2025-02-10 01:10:06 -0500 (Mon, 10 Feb 2025) EndedAt: 2025-02-10 01:11:09 -0500 (Mon, 10 Feb 2025) EllapsedTime: 62.1 seconds RetCode: 0 Status: OK PackageFile: r3Cseq_1.53.0.tgz PackageFileSize: 2.942 MiB