Package: r3Cseq Version: 1.53.0 Command: /Library/Frameworks/R.framework/Resources/bin/R CMD build --keep-empty-dirs --no-resave-data r3Cseq StartedAt: 2025-02-03 18:01:30 -0500 (Mon, 03 Feb 2025) EndedAt: 2025-02-03 18:03:27 -0500 (Mon, 03 Feb 2025) EllapsedTime: 116.8 seconds RetCode: 0 Status: OK PackageFile: r3Cseq_1.53.0.tar.gz PackageFileSize: 4.326 MiB