Package: r3Cseq Version: 1.53.0 Command: /Library/Frameworks/R.framework/Resources/bin/R CMD check --install=check:r3Cseq.install-out.txt --library=/Library/Frameworks/R.framework/Resources/library --no-vignettes --timings r3Cseq_1.53.0.tar.gz StartedAt: 2025-02-03 22:40:12 -0500 (Mon, 03 Feb 2025) EndedAt: 2025-02-03 22:44:54 -0500 (Mon, 03 Feb 2025) EllapsedTime: 282.3 seconds RetCode: 0 Status: OK CheckDir: r3Cseq.Rcheck Warnings: 0