Package: r3Cseq Version: 1.53.0 Command: /home/biocbuild/bbs-3.21-bioc/R/bin/R CMD check --install=check:r3Cseq.install-out.txt --library=/home/biocbuild/bbs-3.21-bioc/R/site-library --timings r3Cseq_1.53.0.tar.gz StartedAt: 2025-02-04 01:45:57 -0500 (Tue, 04 Feb 2025) EndedAt: 2025-02-04 01:51:32 -0500 (Tue, 04 Feb 2025) EllapsedTime: 334.7 seconds RetCode: 0 Status: OK CheckDir: r3Cseq.Rcheck Warnings: 0