Package: r3Cseq Version: 1.53.0 Command: /home/biocbuild/bbs-3.21-bioc/R/bin/R CMD INSTALL r3Cseq StartedAt: 2025-02-09 15:29:53 -0500 (Sun, 09 Feb 2025) EndedAt: 2025-02-09 15:30:35 -0500 (Sun, 09 Feb 2025) EllapsedTime: 41.8 seconds RetCode: 0 Status: OK