Package: r3Cseq Version: 1.53.0 Command: chmod a+r r3Cseq -R && E:\biocbuild\bbs-3.21-bioc\R\bin\R.exe CMD build --keep-empty-dirs --no-resave-data r3Cseq StartedAt: 2025-02-09 20:58:26 -0500 (Sun, 09 Feb 2025) EndedAt: 2025-02-09 21:03:30 -0500 (Sun, 09 Feb 2025) EllapsedTime: 304.5 seconds RetCode: 0 Status: OK PackageFile: r3Cseq_1.53.0.tar.gz PackageFileSize: 4.161 MiB