Package: r3Cseq Version: 1.53.0 Command: E:\biocbuild\bbs-3.21-bioc\R\bin\R.exe CMD INSTALL r3Cseq StartedAt: 2025-02-03 16:42:22 -0500 (Mon, 03 Feb 2025) EndedAt: 2025-02-03 16:43:50 -0500 (Mon, 03 Feb 2025) EllapsedTime: 87.6 seconds RetCode: 0 Status: OK