Package: rBLAST Version: 1.3.1 Maintainer: Michael Hahsler MaintainerEmail: mhahsler at lyle.smu.edu git_url: https://git.bioconductor.org/packages/rBLAST git_branch: devel git_last_commit: e1044a5 git_last_commit_date: 2025-01-06 19:42:37 -0500 (Mon, 06 Jan 2025)