Package: rBLAST Version: 1.3.1 Command: rm -rf rBLAST.buildbin-libdir && mkdir rBLAST.buildbin-libdir && /Users/biocbuild/BBS/utils/build-universal.sh rBLAST_1.3.1.tar.gz /Library/Frameworks/R.framework/Resources/bin/R rBLAST.buildbin-libdir StartedAt: 2025-02-09 22:26:37 -0500 (Sun, 09 Feb 2025) EndedAt: 2025-02-09 22:26:41 -0500 (Sun, 09 Feb 2025) EllapsedTime: 4.1 seconds RetCode: 0 Status: OK PackageFile: rBLAST_1.3.1.tgz PackageFileSize: 49.4 KiB