Package: rBLAST Version: 1.3.1 Command: /Library/Frameworks/R.framework/Resources/bin/R CMD INSTALL rBLAST StartedAt: 2025-02-09 15:07:48 -0500 (Sun, 09 Feb 2025) EndedAt: 2025-02-09 15:07:52 -0500 (Sun, 09 Feb 2025) EllapsedTime: 3.9 seconds RetCode: 0 Status: OK