Package: rBLAST Version: 1.3.1 Command: rm -rf rBLAST.buildbin-libdir && mkdir rBLAST.buildbin-libdir && /Users/biocbuild/BBS/utils/build-universal.sh rBLAST_1.3.1.tar.gz /Library/Frameworks/R.framework/Resources/bin/R rBLAST.buildbin-libdir StartedAt: 2025-02-04 00:50:48 -0500 (Tue, 04 Feb 2025) EndedAt: 2025-02-04 00:51:04 -0500 (Tue, 04 Feb 2025) EllapsedTime: 16.2 seconds RetCode: 0 Status: OK PackageFile: rBLAST_1.3.1.tgz PackageFileSize: 49.15 KiB