Package: rBLAST Version: 1.3.1 Command: /Library/Frameworks/R.framework/Resources/bin/R CMD build --keep-empty-dirs --no-resave-data rBLAST StartedAt: 2025-02-03 18:02:47 -0500 (Mon, 03 Feb 2025) EndedAt: 2025-02-03 18:03:04 -0500 (Mon, 03 Feb 2025) EllapsedTime: 17.2 seconds RetCode: 0 Status: OK PackageFile: rBLAST_1.3.1.tar.gz PackageFileSize: 24.77 KiB