Package: rBLAST Version: 1.3.1 Command: /Library/Frameworks/R.framework/Resources/bin/R CMD INSTALL rBLAST StartedAt: 2025-02-03 15:18:18 -0500 (Mon, 03 Feb 2025) EndedAt: 2025-02-03 15:18:31 -0500 (Mon, 03 Feb 2025) EllapsedTime: 12.9 seconds RetCode: 0 Status: OK