Package: rBLAST Version: 1.3.1 Command: /home/biocbuild/bbs-3.21-bioc/R/bin/R CMD build --keep-empty-dirs --no-resave-data rBLAST StartedAt: 2025-02-09 18:50:12 -0500 (Sun, 09 Feb 2025) EndedAt: 2025-02-09 18:50:26 -0500 (Sun, 09 Feb 2025) EllapsedTime: 14.0 seconds RetCode: 0 Status: OK PackageFile: rBLAST_1.3.1.tar.gz PackageFileSize: 24.95 KiB