Package: rBLAST Version: 1.3.1 Command: /home/biocbuild/bbs-3.21-bioc/R/bin/R CMD INSTALL rBLAST StartedAt: 2025-02-09 15:15:44 -0500 (Sun, 09 Feb 2025) EndedAt: 2025-02-09 15:15:53 -0500 (Sun, 09 Feb 2025) EllapsedTime: 8.8 seconds RetCode: 0 Status: OK