Package: rBLAST Version: 1.3.1 Command: rm -rf rBLAST.buildbin-libdir && mkdir rBLAST.buildbin-libdir && E:\biocbuild\bbs-3.21-bioc\R\bin\R.exe CMD INSTALL --build --library=rBLAST.buildbin-libdir rBLAST_1.3.1.tar.gz StartedAt: 2025-02-10 08:29:20 -0500 (Mon, 10 Feb 2025) EndedAt: 2025-02-10 08:29:34 -0500 (Mon, 10 Feb 2025) EllapsedTime: 14.3 seconds RetCode: 0 Status: OK PackageFile: rBLAST_1.3.1.zip PackageFileSize: 54.15 KiB