Package: rBLAST Version: 1.3.1 Command: E:\biocbuild\bbs-3.21-bioc\R\bin\R.exe CMD check --no-multiarch --install=check:rBLAST.install-out.txt --library=E:\biocbuild\bbs-3.21-bioc\R\library --no-vignettes --timings rBLAST_1.3.1.tar.gz StartedAt: 2025-02-10 04:30:45 -0500 (Mon, 10 Feb 2025) EndedAt: 2025-02-10 04:32:21 -0500 (Mon, 10 Feb 2025) EllapsedTime: 95.5 seconds RetCode: 0 Status: OK CheckDir: rBLAST.Rcheck Warnings: 0