Package: rBLAST Version: 1.3.1 Command: E:\biocbuild\bbs-3.21-bioc\R\bin\R.exe CMD INSTALL rBLAST StartedAt: 2025-02-03 15:54:23 -0500 (Mon, 03 Feb 2025) EndedAt: 2025-02-03 15:54:36 -0500 (Mon, 03 Feb 2025) EllapsedTime: 13.8 seconds RetCode: 0 Status: OK