Package: rBiopaxParser Version: 2.47.0 Command: rm -rf rBiopaxParser.buildbin-libdir && mkdir rBiopaxParser.buildbin-libdir && /Users/biocbuild/BBS/utils/build-universal.sh rBiopaxParser_2.47.0.tar.gz /Library/Frameworks/R.framework/Resources/bin/R rBiopaxParser.buildbin-libdir StartedAt: 2025-02-03 23:02:22 -0500 (Mon, 03 Feb 2025) EndedAt: 2025-02-03 23:02:25 -0500 (Mon, 03 Feb 2025) EllapsedTime: 3.1 seconds RetCode: 0 Status: OK PackageFile: rBiopaxParser_2.47.0.tgz PackageFileSize: 864.2 KiB