Package: rBiopaxParser Version: 2.47.0 Command: /Library/Frameworks/R.framework/Resources/bin/R CMD INSTALL rBiopaxParser StartedAt: 2025-02-09 15:01:28 -0500 (Sun, 09 Feb 2025) EndedAt: 2025-02-09 15:01:33 -0500 (Sun, 09 Feb 2025) EllapsedTime: 4.8 seconds RetCode: 0 Status: OK