Package: rBiopaxParser Version: 2.47.0 Command: /home/biocbuild/R/R/bin/R CMD check --install=check:rBiopaxParser.install-out.txt --library=/home/biocbuild/R/R/site-library --no-vignettes --timings rBiopaxParser_2.47.0.tar.gz StartedAt: 2025-01-28 14:19:35 -0000 (Tue, 28 Jan 2025) EndedAt: 2025-01-28 14:20:27 -0000 (Tue, 28 Jan 2025) EllapsedTime: 52.0 seconds RetCode: 0 Status: OK CheckDir: rBiopaxParser.Rcheck Warnings: 0