Package: rBiopaxParser Version: 2.47.0 Command: /home/biocbuild/R/R/bin/R CMD INSTALL rBiopaxParser StartedAt: 2025-01-29 19:30:41 -0000 (Wed, 29 Jan 2025) EndedAt: 2025-01-29 19:31:07 -0000 (Wed, 29 Jan 2025) EllapsedTime: 26.4 seconds RetCode: 0 Status: OK