Package: rBiopaxParser Version: 2.47.0 Command: /Library/Frameworks/R.framework/Resources/bin/R CMD INSTALL rBiopaxParser StartedAt: 2025-02-03 15:09:16 -0500 (Mon, 03 Feb 2025) EndedAt: 2025-02-03 15:10:03 -0500 (Mon, 03 Feb 2025) EllapsedTime: 46.5 seconds RetCode: 0 Status: OK