Package: rBiopaxParser Version: 2.47.0 Command: /home/biocbuild/bbs-3.21-bioc/R/bin/R CMD build --keep-empty-dirs --no-resave-data rBiopaxParser StartedAt: 2025-02-09 18:50:10 -0500 (Sun, 09 Feb 2025) EndedAt: 2025-02-09 18:50:18 -0500 (Sun, 09 Feb 2025) EllapsedTime: 8.0 seconds RetCode: 0 Status: OK PackageFile: rBiopaxParser_2.47.0.tar.gz PackageFileSize: 897.2 KiB