Package: rBiopaxParser Version: 2.47.0 Command: /home/biocbuild/bbs-3.21-bioc/R/bin/R CMD check --install=check:rBiopaxParser.install-out.txt --library=/home/biocbuild/bbs-3.21-bioc/R/site-library --timings rBiopaxParser_2.47.0.tar.gz StartedAt: 2025-02-04 01:50:32 -0500 (Tue, 04 Feb 2025) EndedAt: 2025-02-04 01:51:15 -0500 (Tue, 04 Feb 2025) EllapsedTime: 43.2 seconds RetCode: 0 Status: OK CheckDir: rBiopaxParser.Rcheck Warnings: 0