Package: rBiopaxParser Version: 2.47.0 Command: rm -rf rBiopaxParser.buildbin-libdir && mkdir rBiopaxParser.buildbin-libdir && E:\biocbuild\bbs-3.21-bioc\R\bin\R.exe CMD INSTALL --build --library=rBiopaxParser.buildbin-libdir rBiopaxParser_2.47.0.tar.gz StartedAt: 2025-02-10 08:29:18 -0500 (Mon, 10 Feb 2025) EndedAt: 2025-02-10 08:30:44 -0500 (Mon, 10 Feb 2025) EllapsedTime: 85.9 seconds RetCode: 0 Status: OK PackageFile: rBiopaxParser_2.47.0.zip PackageFileSize: 737.9 KiB