Package: rBiopaxParser Version: 2.47.0 Command: chmod a+r rBiopaxParser -R && E:\biocbuild\bbs-3.21-bioc\R\bin\R.exe CMD build --keep-empty-dirs --no-resave-data rBiopaxParser StartedAt: 2025-02-09 21:02:31 -0500 (Sun, 09 Feb 2025) EndedAt: 2025-02-09 21:02:49 -0500 (Sun, 09 Feb 2025) EllapsedTime: 17.7 seconds RetCode: 0 Status: OK PackageFile: rBiopaxParser_2.47.0.tar.gz PackageFileSize: 769.6 KiB