Package: rBiopaxParser Version: 2.47.0 Command: E:\biocbuild\bbs-3.21-bioc\R\bin\R.exe CMD check --no-multiarch --install=check:rBiopaxParser.install-out.txt --library=E:\biocbuild\bbs-3.21-bioc\R\library --no-vignettes --timings rBiopaxParser_2.47.0.tar.gz StartedAt: 2025-02-04 04:57:18 -0500 (Tue, 04 Feb 2025) EndedAt: 2025-02-04 04:58:27 -0500 (Tue, 04 Feb 2025) EllapsedTime: 69.1 seconds RetCode: 0 Status: OK CheckDir: rBiopaxParser.Rcheck Warnings: 0