Package: rBiopaxParser Version: 2.47.0 Command: E:\biocbuild\bbs-3.21-bioc\R\bin\R.exe CMD INSTALL rBiopaxParser StartedAt: 2025-02-03 15:32:53 -0500 (Mon, 03 Feb 2025) EndedAt: 2025-02-03 15:33:38 -0500 (Mon, 03 Feb 2025) EllapsedTime: 44.5 seconds RetCode: 0 Status: OK