Package: rCGH Version: 1.37.0 Command: rm -rf rCGH.buildbin-libdir && mkdir rCGH.buildbin-libdir && /Users/biocbuild/BBS/utils/build-universal.sh rCGH_1.37.0.tar.gz /Library/Frameworks/R.framework/Resources/bin/R rCGH.buildbin-libdir StartedAt: 2025-02-09 22:26:44 -0500 (Sun, 09 Feb 2025) EndedAt: 2025-02-09 22:27:04 -0500 (Sun, 09 Feb 2025) EllapsedTime: 19.5 seconds RetCode: 0 Status: OK PackageFile: rCGH_1.37.0.tgz PackageFileSize: 4.892 MiB