Package: rCGH Version: 1.37.0 Command: /Library/Frameworks/R.framework/Resources/bin/R CMD INSTALL rCGH StartedAt: 2025-02-09 15:22:11 -0500 (Sun, 09 Feb 2025) EndedAt: 2025-02-09 15:22:30 -0500 (Sun, 09 Feb 2025) EllapsedTime: 18.4 seconds RetCode: 0 Status: OK