Package: rCGH Version: 1.37.0 Command: /home/biocbuild/R/R/bin/R CMD build --keep-empty-dirs --no-resave-data rCGH StartedAt: 2025-01-29 01:32:23 -0000 (Wed, 29 Jan 2025) EndedAt: 2025-01-29 01:34:19 -0000 (Wed, 29 Jan 2025) EllapsedTime: 116.0 seconds RetCode: 0 Status: OK PackageFile: rCGH_1.37.0.tar.gz PackageFileSize: 3.712 MiB