Package: rCGH Version: 1.37.0 Command: E:\biocbuild\bbs-3.21-bioc\R\bin\R.exe CMD INSTALL rCGH StartedAt: 2025-02-09 16:48:52 -0500 (Sun, 09 Feb 2025) EndedAt: 2025-02-09 16:50:02 -0500 (Sun, 09 Feb 2025) EllapsedTime: 69.5 seconds RetCode: 0 Status: OK