Package: rGADEM Version: 2.55.0 Command: /Library/Frameworks/R.framework/Resources/bin/R CMD INSTALL rGADEM StartedAt: 2025-02-04 15:18:55 -0500 (Tue, 04 Feb 2025) EndedAt: 2025-02-04 15:20:00 -0500 (Tue, 04 Feb 2025) EllapsedTime: 64.7 seconds RetCode: 0 Status: OK