Package: rGADEM Version: 2.55.0 Command: /home/biocbuild/bbs-3.21-bioc/R/bin/R CMD check --install=check:rGADEM.install-out.txt --library=/home/biocbuild/bbs-3.21-bioc/R/site-library --timings rGADEM_2.55.0.tar.gz StartedAt: 2025-02-05 01:59:52 -0500 (Wed, 05 Feb 2025) EndedAt: 2025-02-05 02:04:52 -0500 (Wed, 05 Feb 2025) EllapsedTime: 299.6 seconds RetCode: 0 Status: WARNINGS CheckDir: rGADEM.Rcheck Warnings: 1