Package: rGADEM Version: 2.55.0 Command: /home/biocbuild/bbs-3.21-bioc/R/bin/R CMD INSTALL rGADEM StartedAt: 2025-02-09 15:27:31 -0500 (Sun, 09 Feb 2025) EndedAt: 2025-02-09 15:28:12 -0500 (Sun, 09 Feb 2025) EllapsedTime: 41.6 seconds RetCode: 0 Status: OK