Package: rGADEM Version: 2.55.0 Command: chmod a+r rGADEM -R && E:\biocbuild\bbs-3.21-bioc\R\bin\R.exe CMD build --keep-empty-dirs --no-resave-data rGADEM StartedAt: 2025-02-09 21:09:11 -0500 (Sun, 09 Feb 2025) EndedAt: 2025-02-09 21:12:16 -0500 (Sun, 09 Feb 2025) EllapsedTime: 185.2 seconds RetCode: 0 Status: OK PackageFile: rGADEM_2.55.0.tar.gz PackageFileSize: 225.1 KiB