Package: rGADEM Version: 2.55.0 Command: E:\biocbuild\bbs-3.21-bioc\R\bin\R.exe CMD INSTALL rGADEM StartedAt: 2025-02-09 16:35:19 -0500 (Sun, 09 Feb 2025) EndedAt: 2025-02-09 16:36:38 -0500 (Sun, 09 Feb 2025) EllapsedTime: 79.5 seconds RetCode: 0 Status: OK